BEGIN:VCALENDAR
VERSION:2.0
PRODID:-//Iva Veazey - ECPv6.15.20//NONSGML v1.0//EN
CALSCALE:GREGORIAN
METHOD:PUBLISH
X-WR-CALNAME:Iva Veazey
X-ORIGINAL-URL:https://ivaveazey.com
X-WR-CALDESC:Events for Iva Veazey
REFRESH-INTERVAL;VALUE=DURATION:PT1H
X-Robots-Tag:noindex
X-PUBLISHED-TTL:PT1H
BEGIN:VTIMEZONE
TZID:UTC
BEGIN:STANDARD
TZOFFSETFROM:+0000
TZOFFSETTO:+0000
TZNAME:UTC
DTSTART:20230101T000000
END:STANDARD
END:VTIMEZONE
BEGIN:VEVENT
DTSTART;TZID=UTC:20250607T110000
DTEND;TZID=UTC:20250607T170000
DTSTAMP:20260425T160550
CREATED:20250512T000703Z
LAST-MODIFIED:20250512T002421Z
UID:1510-1749294000-1749315600@ivaveazey.com
SUMMARY:Wimberley\, Tx Metaphysical and Holistic Fair
DESCRIPTION:I’ll be doing tarot readings on June 7 and 8\, 2025 at the Wimberley Metaphysical and Holistic Fair. There will also be sound healings\, a variety of energy workers\, stone and crystal for purchase and much more. Please check out the website for more information.
URL:https://ivaveazey.com/event/wimberley-tx-metaphysical-and-holistic-fair/
LOCATION:Wimberley Community Center\, 14068 Ranch Road 12\, Wimberley\, TX\, 78676\, United States
END:VEVENT
BEGIN:VEVENT
DTSTART;TZID=UTC:20240416T180000
DTEND;TZID=UTC:20240416T200000
DTSTAMP:20260425T160550
CREATED:20240302T203339Z
LAST-MODIFIED:20240323T203922Z
UID:1310-1713290400-1713297600@ivaveazey.com
SUMMARY:Making Pleasure Matter - Sexuality Q & A
DESCRIPTION:SEX AND AGING \nMany people feel that once you reach a certain age\, your sex life dwindles away. This could not be further from the truth. For many\, sex just keeps getting better.  \nSex in our youth is extremely hormone driven. Later in life it can require a different focus. Learning to communicate more deeply and being willing to explore new things can be a game changer. And a great deal of fun.   \nLearning more about body and sexual changes that happen throughout our lives can open doors to sexual fulfillment.  \nJoin trauma informed sex educator Iva Veazey for a conversation around sex & aging\, followed by a Q&A where Iva will first answer anonymous questions submitted online\, and then open the floor to discussion with participants.  \nFor Adults 21 and over
URL:https://ivaveazey.com/event/making-pleasure-matter/
LOCATION:Holding Space\, 34 Broadway\, Kingston\, NY\, 12401\, United States
ATTACH;FMTTYPE=image/png:https://ivaveazey.com/wp-content/uploads/2024/03/PNG-Gathering-facilitated-by-Certified-Sex-Coach.png
END:VEVENT
BEGIN:VEVENT
DTSTART;TZID=UTC:20240324T163000
DTEND;TZID=UTC:20240324T180000
DTSTAMP:20260425T160550
CREATED:20240228T180820Z
LAST-MODIFIED:20240302T201256Z
UID:1295-1711297800-1711303200@ivaveazey.com
SUMMARY:Meditation\, Intuition & Imagination
DESCRIPTION:Does it feel challenging to make time for art\, music making or any other activities that are near and dear to your heart? \nJoin Musicians Wellness Coach and Certified Sex Coach Iva Veazey for a meditative\, creative evening. Bring a sketch pad\, pencils\, color pens or anything you like to create with. Maybe a yoga blanket to sit on if you prefer the floor. No previous art or meditation experience required – just a desire to sink into some improvisational\, art therapy time. \nPlace: Holding Space\, 34 Broadway Kingston NY\nDate and Time: Sunday March 24th @ 4:30pm-6:00pm
URL:https://ivaveazey.com/event/meditation-intuition-imagination/
LOCATION:TX
CATEGORIES:Events
ATTACH;FMTTYPE=image/jpeg:https://ivaveazey.com/wp-content/uploads/2024/02/Meditation-Intuition-and-Imagination.jpg
END:VEVENT
END:VCALENDAR